BEGIN:VCALENDAR
VERSION:2.0
PRODID:-//wp-events-plugin.com//7.2.1//EN
BEGIN:VEVENT
UID:45@nomads.co.nz
DTSTART:20260307T000000Z
DTEND:20260313T000000Z
DTSTAMP:20250829T222540Z
URL:https://nomads.co.nz/events/61st-south-african-nomads-nationals-7-marc
 h-to-13-march-2026/
SUMMARY:61st South African Nomads Nationals 7 March to 13 March 2026
DESCRIPTION:Southern Natal Whale Nationals\n\nSelborne Golf Estate Penningt
 on ( 1 hour from Durban)\n\n\n\nNewsletter No. 1\n\nAugust 2025\nGreetings
  from the Committee of the Whale Nationals.\nThere are a mere 7 months to 
 go before flag raising in Pennington at the picturesque Selborne Golf Esta
 te\, the venue for the 61st Nomads National Tournament. The 7th of March 2
 026 marks the start of another Nationals week where friends are once again
  reunited\, and rivalries rekindled. The event committee is well on its wa
 y in their preparations for the tournament\, an event which we believe wil
 l leave a lasting and memorable impression on every participant\, guest an
 d partner.\nSelborne Golf Estate is situated 109 km from King Shaka Intern
 ational Airport on the Hibiscus Coast of KZN and quite rightly deserves it
 s readers’ choice award as the “Jewel of the South Coast”. We offer 
 you\, the golfer\, guest and partner a complete one stop venue where all y
 our needs for the week will be taken care of. The furthest you would have 
 to travel would be the 3\,5 km to Pennington’s pristine blue flag beach\
 , should you so wish.\nTournament Format\nThe tournament will be held over
  6 days with each participant completing 4 rounds of golf during that time
 . Nomadic activities are as follows.\nSaturday 7th March National Council 
 Meeting and Flag Raising\, Street Party\nSunday 8th March Day 1 prize-givi
 ng and dinner\nMonday 9th March Captains Dinner (Food supplied and inclusi
 ve)\nTuesday 10th March Day 2 &amp\; 3 prize-giving and dinner\nWednesday 
 11th March Day 4 prize-giving and dinner\nThursday 12th March Day 5 prize-
 giving and dinner\nFriday 13th March Day 6\, Flag Lowering and final night
 ’s prize-giving and dinner\nEntry Fee\nTournament entry fee will include
  4 rounds of golf\, cart\, halfway grab and go\, raffle tickets\,\n7 meals
 \, cowboy bar entertainment as well as 3 night’s entertainment in the ma
 rquee.\nThe meals include a street braai after flag raising and a Captain
 ’s braai at your Captain’s villa.\n\nContact support@nomads.co.nz if y
 ou wish to attend
ATTACH;FMTTYPE=image/jpeg:https://nomads.co.nz/wp-content/uploads/2025/08/
 Selborne.jpg
END:VEVENT
END:VCALENDAR